  BEGIN:VCALENDAR
BEGIN:VEVENT
CLASS:PUBLIC
CREATED:20260420T142328
DESCRIPTION:[embeddoc url=&quot;http://www.bpatletika.hu/bptltk17/wp-content/uploads/2016-PÓLUS-MIKULÁS-FUTÁS-jó.pdf&quot; download=&quot;all&quot; viewer=&quot;google&quot;]
DTEND:20161203T123000
DTSTAMP:20260420T142328
DTSTART:20161203T104500
LAST-MODIFIED:20091109T101015Z
LOCATION:Budapest, Pólus Center és környéke , Szentmihályi út 131., Budapest, , 1152
SUMMARY;LANGUAGE=en-us:PÓLUS MIKULÁS FUTÁS
BEGIN:VALARM
TRIGGER:-PT1440M
ACTION:DISPLAY
DESCRIPTION:Reminder
END:VALARM
END:VEVENT
END:VCALENDAR
