  BEGIN:VCALENDAR
BEGIN:VEVENT
CLASS:PUBLIC
CREATED:20260424T143909
DESCRIPTION:[embeddoc url=&quot;http://www.bpatletika.hu/bptltk17/wp-content/uploads/BHSE-Gyermek-gerelyhajító-versenykiírás-2016.06.11.pdf&quot; download=&quot;all&quot; viewer=&quot;google&quot;]
DTEND:20160611T130000
DTSTAMP:20260424T143909
DTSTART:20160611T100000
LAST-MODIFIED:20091109T101015Z
LOCATION:Budapesti Honvéd SE, Iharos atlétikai pálya, Dózsa György út 53., Budapest, , 1134
SUMMARY;LANGUAGE=en-us:Bp. Honvéd SE Gyermek Gerelyhajító Versenye Nyár I. 2016
BEGIN:VALARM
TRIGGER:-PT1440M
ACTION:DISPLAY
DESCRIPTION:Reminder
END:VALARM
END:VEVENT
END:VCALENDAR
