  BEGIN:VCALENDAR
BEGIN:VEVENT
CLASS:PUBLIC
CREATED:20260424T114808
DESCRIPTION:[embeddoc url=&quot;https://bpatletika.hu/bptltk17/wp-content/uploads/2026/04/2026-PATAKPARTI-FUTÁS-időrend-ok.pdf&quot; download=&quot;all&quot;]
DTEND:20260509T160000
DTSTAMP:20260424T114808
DTSTART:20260509T090000
LAST-MODIFIED:20091109T101015Z
LOCATION:ZUGLÓ-MOGYORÓDI ÚTI SPORTTELEP , Mogyoródi út 130, Budapest, , 1141
SUMMARY;LANGUAGE=en-us:PATAKPARTI FUTÁS 2026
BEGIN:VALARM
TRIGGER:-PT1440M
ACTION:DISPLAY
DESCRIPTION:Reminder
END:VALARM
END:VEVENT
END:VCALENDAR
