  BEGIN:VCALENDAR
BEGIN:VEVENT
CLASS:PUBLIC
CREATED:20260424T143751
DESCRIPTION:[embeddoc url=&quot;https://bpatletika.hu/bptltk17/wp-content/uploads/2025/04/Zuglói-Patakparti-futás-2025.pdf&quot; download=&quot;all&quot;]
DTEND:20250510T143000
DTSTAMP:20260424T143751
DTSTART:20250510T090000
LAST-MODIFIED:20091109T101015Z
LOCATION:ZUGLÓ-MOGYORÓDI ÚTI SPORTTELEP , Mogyoródi út 130, Budapest, , 1141
SUMMARY;LANGUAGE=en-us:ZUGLÓI-PATAKPARTI FUTÁS 2025
BEGIN:VALARM
TRIGGER:-PT1440M
ACTION:DISPLAY
DESCRIPTION:Reminder
END:VALARM
END:VEVENT
END:VCALENDAR
