  BEGIN:VCALENDAR
BEGIN:VEVENT
CLASS:PUBLIC
CREATED:20260424T143747
DESCRIPTION:[embeddoc url=&quot;https://bpatletika.hu/bptltk17/wp-content/uploads/2025/01/2025-Bp.-Fedettpályás-Bajnokság-kiírás-jav-ok.pdf&quot; download=&quot;all&quot;]
DTEND:20250201T060000
DTSTAMP:20260424T143747
DTSTART:20250119T060000
LAST-MODIFIED:20091109T101015Z
LOCATION:BOK SPORTCSARNOK, Curia, Budapest, , 1053
SUMMARY;LANGUAGE=en-us:Budapest Régió 2025. évi Fedettpályás Bajnokság
BEGIN:VALARM
TRIGGER:-PT1440M
ACTION:DISPLAY
DESCRIPTION:Reminder
END:VALARM
END:VEVENT
END:VCALENDAR
