  BEGIN:VCALENDAR
BEGIN:VEVENT
CLASS:PUBLIC
CREATED:20260421T115226
DESCRIPTION:[embeddoc url=&quot;https://bpatletika.hu/bptltk17/wp-content/uploads/Dortmund_2019_nemzetközi-verseny-info_i-szülői-nyil.pdf&quot; download=&quot;all&quot; viewer=&quot;google&quot;]
DTEND:20190217T060000
DTSTAMP:20260421T115226
DTSTART:20190216T060000
LAST-MODIFIED:20091109T101015Z
LOCATION:Dortmund Sporthalle, , Dortmund, , 
SUMMARY;LANGUAGE=en-us:Dortmund Nemzetközi Gyermek és Serdülő Verseny 2019
BEGIN:VALARM
TRIGGER:-PT1440M
ACTION:DISPLAY
DESCRIPTION:Reminder
END:VALARM
END:VEVENT
END:VCALENDAR
