  BEGIN:VCALENDAR
BEGIN:VEVENT
CLASS:PUBLIC
CREATED:20260424T143629
DESCRIPTION:[embeddoc url=&quot;http://www.bpatletika.hu/bptltk17/wp-content/uploads/631-n.pdf&quot; download=&quot;all&quot; viewer=&quot;google&quot;]
DTEND:20150411T180000
DTSTAMP:20260424T143629
DTSTART:20150411T080000
LAST-MODIFIED:20091109T101015Z
LOCATION:Rajt: Eger, Dobó tér, Cél: Miskolci Egyetem, Sportközpont, , Eger – Miskolc, , 
SUMMARY;LANGUAGE=en-us:Bosch Szarvasűzők Váltóverseny
BEGIN:VALARM
TRIGGER:-PT1440M
ACTION:DISPLAY
DESCRIPTION:Reminder
END:VALARM
END:VEVENT
END:VCALENDAR
